BEGIN:VCALENDAR
VERSION:2.0
PRODID:-//dhtmlXScheduler//NONSGML v2.2//EN
X-WR-CALNAME:Wydarzenia
BEGIN:VEVENT
DTSTART:20170215T000000
DTEND:20170215T000000
UID:1
SUMMARY:Konkurs Parlamentu Studenckiego UwB na dotacje dla kół naukowych i organizacji studenckich
END:VEVENT
END:VCALENDAR