BEGIN:VCALENDAR
VERSION:2.0
PRODID:-//dhtmlXScheduler//NONSGML v2.2//EN
X-WR-CALNAME:Wydarzenia
BEGIN:VEVENT
DTSTART:20190104T000000
DTEND:20190104T000000
UID:1
SUMMARY:Konferencja Doktorantów pt. „Prawo własności przemysłowej w XXI wieku – teoria i praktyka”
END:VEVENT
END:VCALENDAR