BEGIN:VCALENDAR
VERSION:2.0
PRODID:-//dhtmlXScheduler//NONSGML v2.2//EN
X-WR-CALNAME:Wydarzenia
BEGIN:VEVENT
DTSTART:20180410T000000
DTEND:20180410T000000
UID:1
SUMMARY:Komunikacja międzykomórkowa. Wykład otwarty na Wydziale Fizyki UwB 


END:VEVENT
END:VCALENDAR