BEGIN:VCALENDAR
VERSION:2.0
PRODID:-//dhtmlXScheduler//NONSGML v2.2//EN
X-WR-CALNAME:Wydarzenia
BEGIN:VEVENT
DTSTART:20170421T000000
DTEND:20170421T000000
UID:1
SUMMARY:Już 24 kwietnia Dzień Otwarty Wydziału Filologicznego UwB - zapraszamy! 
END:VEVENT
END:VCALENDAR