BEGIN:VCALENDAR
VERSION:2.0
PRODID:-//dhtmlXScheduler//NONSGML v2.2//EN
X-WR-CALNAME:Wydarzenia
BEGIN:VEVENT
DTSTART:20170126T000000
DTEND:20170126T000000
UID:1
SUMMARY:Jubileusz Uniwersytetu w Białymstoku - 20 lat samodzielności
END:VEVENT
END:VCALENDAR