BEGIN:VCALENDAR
VERSION:2.0
PRODID:-//dhtmlXScheduler//NONSGML v2.2//EN
X-WR-CALNAME:Wydarzenia
BEGIN:VEVENT
DTSTART:20161220T000000
DTEND:20161220T000000
UID:1
SUMMARY:Joanna Jakubiuk: Zawsze mam wałek w walizce 
END:VEVENT
END:VCALENDAR