BEGIN:VCALENDAR
VERSION:2.0
PRODID:-//dhtmlXScheduler//NONSGML v2.2//EN
X-WR-CALNAME:Wydarzenia
BEGIN:VEVENT
DTSTART:20190606T000000
DTEND:20190606T000000
UID:1
SUMMARY:IV konferencja naukowa z cyklu Polityka i politycy w prasie XX i XXI w. - Kobiety i wybory parlamentarne 
END:VEVENT
END:VCALENDAR