BEGIN:VCALENDAR
VERSION:2.0
PRODID:-//dhtmlXScheduler//NONSGML v2.2//EN
X-WR-CALNAME:Wydarzenia
BEGIN:VEVENT
DTSTART:20180319T000000
DTEND:20180319T000000
UID:1
SUMMARY:„innoSHARE’2018 on the road”
END:VEVENT
END:VCALENDAR