BEGIN:VCALENDAR
VERSION:2.0
PRODID:-//dhtmlXScheduler//NONSGML v2.2//EN
X-WR-CALNAME:Wydarzenia
BEGIN:VEVENT
DTSTART:20180604T000000
DTEND:20180604T000000
UID:1
SUMMARY:III Konferencja Naukowa z cyklu „Polityka i politycy w prasie XX i XX w” pt. „Polityka w prasie kobiecej” 25-26 maja 2018 r. 
END:VEVENT
END:VCALENDAR