BEGIN:VCALENDAR
VERSION:2.0
PRODID:-//dhtmlXScheduler//NONSGML v2.2//EN
X-WR-CALNAME:Wydarzenia
BEGIN:VEVENT
DTSTART:20171201T000000
DTEND:20171201T000000
UID:1
SUMMARY:Historyk z Uniwersytetu w Białymstoku zdobył grant na badania epoki jagiellońskiej i jej dziedzictwa 
END:VEVENT
END:VCALENDAR