BEGIN:VCALENDAR
VERSION:2.0
PRODID:-//dhtmlXScheduler//NONSGML v2.2//EN
X-WR-CALNAME:Wydarzenia
BEGIN:VEVENT
DTSTART:20170613T000000
DTEND:20170613T000000
UID:1
SUMMARY:Główne obchody 20-lecia Uniwersytetu w Białymstoku już w następnym tygodniu - zapraszamy! 
END:VEVENT
END:VCALENDAR