BEGIN:VCALENDAR
VERSION:2.0
PRODID:-//dhtmlXScheduler//NONSGML v2.2//EN
X-WR-CALNAME:Wydarzenia
BEGIN:VEVENT
DTSTART:20180703T000000
DTEND:20180703T000000
UID:1
SUMMARY:Głowa do nauki, serce do pomagania
END:VEVENT
END:VCALENDAR