BEGIN:VCALENDAR
VERSION:2.0
PRODID:-//dhtmlXScheduler//NONSGML v2.2//EN
X-WR-CALNAME:Wydarzenia
BEGIN:VEVENT
DTSTART:20170803T000000
DTEND:20170803T000000
UID:1
SUMMARY:Fundacja na rzecz Nauki Polskiej uruchomiła 5 kolejnych konkursów 
END:VEVENT
END:VCALENDAR