BEGIN:VCALENDAR
VERSION:2.0
PRODID:-//dhtmlXScheduler//NONSGML v2.2//EN
X-WR-CALNAME:Wydarzenia
BEGIN:VEVENT
DTSTART:20180226T000000
DTEND:20180226T000000
UID:1
SUMMARY:Fizycy z UwB zapraszają na wystawę i seminarium
END:VEVENT
END:VCALENDAR