BEGIN:VCALENDAR
VERSION:2.0
PRODID:-//dhtmlXScheduler//NONSGML v2.2//EN
X-WR-CALNAME:Wydarzenia
BEGIN:VEVENT
DTSTART:20170623T000000
DTEND:20170623T000000
UID:1
SUMMARY:Finaliści z UwB na VI Międzynarodowej Olimpiadzie z Języka, Literatury i Kultury Rosyjskiej
END:VEVENT
END:VCALENDAR