BEGIN:VCALENDAR
VERSION:2.0
PRODID:-//dhtmlXScheduler//NONSGML v2.2//EN
X-WR-CALNAME:Wydarzenia
BEGIN:VEVENT
DTSTART:20160616T000000
DTEND:20160616T000000
UID:1
SUMMARY:Fale grawitacyjne ponownie zaobserwowane 
– i ponownie przy udziale fizyka z UwB!
END:VEVENT
END:VCALENDAR