BEGIN:VCALENDAR
VERSION:2.0
PRODID:-//dhtmlXScheduler//NONSGML v2.2//EN
X-WR-CALNAME:Wydarzenia
BEGIN:VEVENT
DTSTART:20180222T000000
DTEND:20180222T000000
UID:1
SUMMARY:„Dzień z prawem pracy – prawo w praktyce ”
END:VEVENT
END:VCALENDAR