BEGIN:VCALENDAR
VERSION:2.0
PRODID:-//dhtmlXScheduler//NONSGML v2.2//EN
X-WR-CALNAME:Wydarzenia
BEGIN:VEVENT
DTSTART:20170403T000000
DTEND:20170403T000000
UID:1
SUMMARY:Dzielimy się naszym doświadczeniem - UwB w projekcie wspierającym uczelnie na Białorusi
END:VEVENT
END:VCALENDAR