BEGIN:VCALENDAR
VERSION:2.0
PRODID:-//dhtmlXScheduler//NONSGML v2.2//EN
X-WR-CALNAME:Wydarzenia
BEGIN:VEVENT
DTSTART:20170929T000000
DTEND:20170929T000000
UID:1
SUMMARY:Dwudziestka najlepszych w Akademii Młodego Badacza
END:VEVENT
END:VCALENDAR