BEGIN:VCALENDAR
VERSION:2.0
PRODID:-//dhtmlXScheduler//NONSGML v2.2//EN
X-WR-CALNAME:Wydarzenia
BEGIN:VEVENT
DTSTART:20180628T000000
DTEND:20180628T000000
UID:1
SUMMARY:Dr Piotr Guzowski z UwB pokieruje grantem 
realizowanym wspólnie z badaczami z Litwy
END:VEVENT
END:VCALENDAR