BEGIN:VCALENDAR
VERSION:2.0
PRODID:-//dhtmlXScheduler//NONSGML v2.2//EN
X-WR-CALNAME:Wydarzenia
BEGIN:VEVENT
DTSTART:20160217T000000
DTEND:20160217T000000
UID:1
SUMMARY:Dr Piotr Guzowski z Uniwersytetu w Białymstoku zdobył grant
na badania nad przełomami gospodarczymi w Polsce
END:VEVENT
END:VCALENDAR