BEGIN:VCALENDAR
VERSION:2.0
PRODID:-//dhtmlXScheduler//NONSGML v2.2//EN
X-WR-CALNAME:Wydarzenia
BEGIN:VEVENT
DTSTART:20181204T000000
DTEND:20181204T000000
UID:1
SUMMARY:Dr Julita Sadowska z UwB laureatką konkursu stypendialnego w Programie im. Bekkera
END:VEVENT
END:VCALENDAR