BEGIN:VCALENDAR
VERSION:2.0
PRODID:-//dhtmlXScheduler//NONSGML v2.2//EN
X-WR-CALNAME:Wydarzenia
BEGIN:VEVENT
DTSTART:20170824T000000
DTEND:20170824T000000
UID:1
SUMMARY:Dr Anna Rybak z UwB w Żywej Bibliotece
END:VEVENT
END:VCALENDAR