BEGIN:VCALENDAR
VERSION:2.0
PRODID:-//dhtmlXScheduler//NONSGML v2.2//EN
X-WR-CALNAME:Wydarzenia
BEGIN:VEVENT
DTSTART:20171214T000000
DTEND:20171214T000000
UID:1
SUMMARY:Dopalacze – narkotyki XXI wieku. Szkolenie eksperckie organizowane przez Komendę Miejską Policji
END:VEVENT
END:VCALENDAR