BEGIN:VCALENDAR
VERSION:2.0
PRODID:-//dhtmlXScheduler//NONSGML v2.2//EN
X-WR-CALNAME:Wydarzenia
BEGIN:VEVENT
DTSTART:20161207T000000
DTEND:20161207T000000
UID:1
SUMMARY:Dołącz do UwB Team i biegnij razem z nami! Pierwszy trening 21 stycznia - zapraszamy!
END:VEVENT
END:VCALENDAR