BEGIN:VCALENDAR
VERSION:2.0
PRODID:-//dhtmlXScheduler//NONSGML v2.2//EN
X-WR-CALNAME:Wydarzenia
BEGIN:VEVENT
DTSTART:20190510T000000
DTEND:20190510T000000
UID:1
SUMMARY:Do końca maja trwa nabór wniosków o przyznanie stypendium dla wybitnych młodych naukowców!
END:VEVENT
END:VCALENDAR