BEGIN:VCALENDAR
VERSION:2.0
PRODID:-//dhtmlXScheduler//NONSGML v2.2//EN
X-WR-CALNAME:Wydarzenia
BEGIN:VEVENT
DTSTART:20210318T000000
DTEND:20210318T000000
UID:1
SUMMARY:„Czy wynalazek studencki to dobry pomysł na biznes?” - zapraszamy na webinarium
END:VEVENT
END:VCALENDAR