BEGIN:VCALENDAR
VERSION:2.0
PRODID:-//dhtmlXScheduler//NONSGML v2.2//EN
X-WR-CALNAME:Wydarzenia
BEGIN:VEVENT
DTSTART:20170726T000000
DTEND:20170726T000000
UID:1
SUMMARY:Chemiczka z #UwB stypendystką Narodowego Centrum Nauki!
END:VEVENT
END:VCALENDAR