BEGIN:VCALENDAR
VERSION:2.0
PRODID:-//dhtmlXScheduler//NONSGML v2.2//EN
X-WR-CALNAME:Wydarzenia
BEGIN:VEVENT
DTSTART:20170202T000000
DTEND:20170202T000000
UID:1
SUMMARY:Blisko 400 tys. zł na międzynarodowy projekt
fizyka z Uniwersytetu w Białymstoku
END:VEVENT
END:VCALENDAR