BEGIN:VCALENDAR
VERSION:2.0
PRODID:-//dhtmlXScheduler//NONSGML v2.2//EN
X-WR-CALNAME:Wydarzenia
BEGIN:VEVENT
DTSTART:20171207T000000
DTEND:20171207T000000
UID:1
SUMMARY:Białostoccy licealiści poznają filozofię pod okiem wykładowców z UwB
END:VEVENT
END:VCALENDAR