BEGIN:VCALENDAR
VERSION:2.0
PRODID:-//dhtmlXScheduler//NONSGML v2.2//EN
X-WR-CALNAME:Wydarzenia
BEGIN:VEVENT
DTSTART:20171124T000000
DTEND:20171124T000000
UID:1
SUMMARY:73 zaobrączkowane ptaki dziennie!
Organizatorzy Akcji Siemianówka podsumowali sezon 2017 
END:VEVENT
END:VCALENDAR