BEGIN:VCALENDAR
VERSION:2.0
PRODID:-//dhtmlXScheduler//NONSGML v2.2//EN
X-WR-CALNAME:Wydarzenia
BEGIN:VEVENT
DTSTART:20190225T000000
DTEND:20190225T000000
UID:1
SUMMARY:100 minut na 100-lecie niepodległości Białegostoku. Reprezentanci UwB z nagrodami! 
END:VEVENT
END:VCALENDAR