BEGIN:VCALENDAR
VERSION:2.0
PRODID:-//dhtmlXScheduler//NONSGML v2.2//EN
X-WR-CALNAME:Wydarzenia
BEGIN:VEVENT
DTSTART:20180104T000000
DTEND:20180104T000000
UID:1
SUMMARY: ,,W jedności siła! Idee Sokolstwa na pocztówkach ze zbiorów Muzeum Sportu i Turystyki w Warszawie"
END:VEVENT
END:VCALENDAR