BEGIN:VCALENDAR
VERSION:2.0
PRODID:-//dhtmlXScheduler//NONSGML v2.2//EN
X-WR-CALNAME:Wydarzenia
BEGIN:VEVENT
DTSTART:20180608T000000
DTEND:20180608T000000
UID:1
SUMMARY:,,Designing Teacher Education and Professional Development for the 21st Century: Current Trends, Challenges and Directions for the Future"
END:VEVENT
END:VCALENDAR