BEGIN:VCALENDAR
VERSION:2.0
PRODID:-//dhtmlXScheduler//NONSGML v2.2//EN
X-WR-CALNAME:Wydarzenia
BEGIN:VEVENT
DTSTART:20211207T000000
DTEND:20211207T000000
UID:0
SUMMARY:Czytanie performatywne dramatu "Walizka" w Uniwersyteckim Centrum Kultury
END:VEVENT
BEGIN:VEVENT
DTSTART:20211208T000000
DTEND:20211208T000000
UID:1
SUMMARY:Mobilny punkt szczepień przeciwko Covid-19 na Wydziale Historii i Stosunków Międzynarodowych
END:VEVENT
BEGIN:VEVENT
DTSTART:20211209T000000
DTEND:20211209T000000
UID:2
SUMMARY:Prof. Piotr Żmigrodzki z mistrzowską prelekcją na Uniwersytecie w Białymstoku 
END:VEVENT
BEGIN:VEVENT
DTSTART:20211210T000000
DTEND:20211210T000000
UID:3
SUMMARY:StuKoT zaprasza na premierę spektaklu „Grzegorz Dyndała” 
END:VEVENT
BEGIN:VEVENT
DTSTART:20211215T000000
DTEND:20211215T000000
UID:4
SUMMARY:Wokół czasopisma „Sybir” i publikacji środowiska historyków z UwB o Sybirze
END:VEVENT
BEGIN:VEVENT
DTSTART:20211215T000000
DTEND:20211215T000000
UID:5
SUMMARY:Na ścieżkach Puszczy Knyszyńskiej w towarzystwie naukowców UwB. Zapraszamy na spotkania autorskie
END:VEVENT
BEGIN:VEVENT
DTSTART:20211216T000000
DTEND:20211216T000000
UID:6
SUMMARY:Komputerowe modelowanie zjawisk społecznych.
Interdyscyplinarna konferencja na UwB

END:VEVENT
BEGIN:VEVENT
DTSTART:20211217T000000
DTEND:20211217T000000
UID:7
SUMMARY:Kolejna "Prelekcja Mistrza" na Wydziale Filologicznym UwB, tym razem po angielsku
END:VEVENT
END:VCALENDAR