BEGIN:VCALENDAR
VERSION:2.0
PRODID:-//dhtmlXScheduler//NONSGML v2.2//EN
X-WR-CALNAME:Wydarzenia
BEGIN:VEVENT
DTSTART:20211109T000000
DTEND:20211109T000000
UID:0
SUMMARY:Wydział Fizyki zaprasza na seminarium pt. Modelowanie pandemii COVID-19
END:VEVENT
BEGIN:VEVENT
DTSTART:20211109T000000
DTEND:20211109T000000
UID:1
SUMMARY:Delegacja Euroazjatyckiego Narodowego Uniwersytetu w Kazachstanie z wizytą na UwB
END:VEVENT
BEGIN:VEVENT
DTSTART:20211113T000000
DTEND:20211113T000000
UID:2
SUMMARY:"Burmistrz" w Uniwersyteckim Centrum Kultury
END:VEVENT
BEGIN:VEVENT
DTSTART:20211116T000000
DTEND:20211116T000000
UID:3
SUMMARY:Chór Akademicki UwB zaprasza na koncert pieśni patriotycznych
END:VEVENT
BEGIN:VEVENT
DTSTART:20211120T000000
DTEND:20211120T000000
UID:4
SUMMARY:Obraz świata roślin we frazeologii i przysłowiach. Międzynarodowe sympozjum na Uniwersytecie w Białymstoku
END:VEVENT
BEGIN:VEVENT
DTSTART:20211122T000000
DTEND:20211122T000000
UID:5
SUMMARY:Bezpłatne konsultacje psychologiczne
END:VEVENT
BEGIN:VEVENT
DTSTART:20211123T000000
DTEND:20211123T000000
UID:6
SUMMARY:Mobilny punkt szczepień przeciwko Covid-19 na Wydziale Biologii UwB
END:VEVENT
BEGIN:VEVENT
DTSTART:20211124T000000
DTEND:20211124T000000
UID:7
SUMMARY:UCK zaprasza na spektakl „Gallery of Modern HeArt"
END:VEVENT
BEGIN:VEVENT
DTSTART:20211127T000000
DTEND:20211127T000000
UID:8
SUMMARY:Wydział Fizyki UwB zaprasza na wykład: Kwantowa zasada względności
END:VEVENT
BEGIN:VEVENT
DTSTART:20211130T000000
DTEND:20211130T000000
UID:9
SUMMARY:Szkolenie on-line z obsługi eduPortalu
END:VEVENT
END:VCALENDAR