BEGIN:VCALENDAR
VERSION:2.0
PRODID:-//dhtmlXScheduler//NONSGML v2.2//EN
X-WR-CALNAME:Wydarzenia
BEGIN:VEVENT
DTSTART:20230626T080000
DTEND:20230627T150000
UID:0
SUMMARY:VI MIĘDZYNARODOWĄ KONFERENCJĘ NAUKOWĄ Z CYKLU: ROZWÓJ SPOŁECZNO-GOSPODARCZY W TEORIACH EKONOMICZNYCH NA TEMAT: CZEGO NAUCZYŁ NAS KRYZYS?
END:VEVENT
END:VCALENDAR