BEGIN:VCALENDAR
VERSION:2.0
PRODID:-//dhtmlXScheduler//NONSGML v2.2//EN
X-WR-CALNAME:Wydarzenia
BEGIN:VEVENT
DTSTART:20220601T000000
DTEND:20220601T000000
UID:0
SUMMARY:Dzień Dziecka w Akcencie ZOO z udziałem studentów biologii z UwB
END:VEVENT
BEGIN:VEVENT
DTSTART:20220601T000000
DTEND:20220601T000000
UID:1
SUMMARY:Z początkiem czerwca rusza rekrutacja na Uniwersytecie w Białymstoku
END:VEVENT
BEGIN:VEVENT
DTSTART:20220602T000000
DTEND:20220602T000000
UID:2
SUMMARY:Uroczystość nadania tytułu doktora honoris causa Uniwersytetu w Białymstoku prof. Adamowi Jamrozowi
END:VEVENT
BEGIN:VEVENT
DTSTART:20220602T000000
DTEND:20220602T000000
UID:3
SUMMARY:Międzynarodowe Sympozjum z cyklu Intercontinental Dialogue on Phraseology
END:VEVENT
BEGIN:VEVENT
DTSTART:20220603T000000
DTEND:20220603T000000
UID:4
SUMMARY:O zachowaniach prospołecznych szympansów. Uniwersytet w Białymstoku zaprasza na wykład
END:VEVENT
BEGIN:VEVENT
DTSTART:20220608T000000
DTEND:20220608T000000
UID:5
SUMMARY:„Czarna Dama” zagości na UwB. Kulturoznawcy zapraszają na film i spotkanie z jego twórcami
END:VEVENT
BEGIN:VEVENT
DTSTART:20220609T000000
DTEND:20220609T000000
UID:6
SUMMARY:Prof. David Newman o relacjach izraelsko-palestyńskich 
END:VEVENT
BEGIN:VEVENT
DTSTART:20220609T000000
DTEND:20220609T000000
UID:7
SUMMARY:Godziny rektorskie - 9 czerwca od 15:00
END:VEVENT
BEGIN:VEVENT
DTSTART:20220609T000000
DTEND:20220609T000000
UID:8
SUMMARY:Urodzinowy Piknik UwB. W czwartek (9 czerwca) spotykamy się w kampusie przy ul. Ciołkowskiego!
END:VEVENT
BEGIN:VEVENT
DTSTART:20220609T000000
DTEND:20220609T000000
UID:9
SUMMARY:8th World Congress on Polish Studies
END:VEVENT
BEGIN:VEVENT
DTSTART:20220613T000000
DTEND:20220613T000000
UID:10
SUMMARY:Międzynarodowa konferencja naukowa o Sofii Casanovie
END:VEVENT
BEGIN:VEVENT
DTSTART:20220619T000000
DTEND:20220619T000000
UID:11
SUMMARY:Naukowcy z całego świata wezmą udział w międzynarodowej Konferencji Metod Geometrycznych w Fizyce 
END:VEVENT
BEGIN:VEVENT
DTSTART:20220621T000000
DTEND:20220621T000000
UID:12
SUMMARY:Adam Mickiewicz i romantycy wobec tradycji wileńskiego środowiska filologicznego
END:VEVENT
BEGIN:VEVENT
DTSTART:20220621T000000
DTEND:20220621T000000
UID:13
SUMMARY:Tarasewicz, Wołkow, Tokarczuk, czyli wystawa fotografii portretowej autorstwa Czesława Czaplińskiego w Bibliotece Uniwersyteckiej
END:VEVENT
BEGIN:VEVENT
DTSTART:20220622T000000
DTEND:20220622T000000
UID:14
SUMMARY:Uroczystość nadania tytułu doktora honoris causa Uniwersytetu w Białymstoku prof. Leonowi Tarasewiczowi
END:VEVENT
BEGIN:VEVENT
DTSTART:20220624T000000
DTEND:20220624T000000
UID:15
SUMMARY:„Związki Biologicznie Czynne – Aktywność, Struktura, Synteza”, 
END:VEVENT
BEGIN:VEVENT
DTSTART:20220624T000000
DTEND:20220624T000000
UID:16
SUMMARY:Otwarta Świetlica Międzykulturowa - zakończenie sezonu
END:VEVENT
BEGIN:VEVENT
DTSTART:20220624T000000
DTEND:20220624T000000
UID:17
SUMMARY: XIX Forum Zaawansowanych Studiów nad Stanami Zjednoczonymi im. Profesora Andrzeja Bartnickiego
END:VEVENT
BEGIN:VEVENT
DTSTART:20220630T000000
DTEND:20220630T000000
UID:18
SUMMARY:Zapraszamy na uroczysty koncert z okazji 25-lecia Uniwersytetu w Białymstoku! 
END:VEVENT
END:VCALENDAR