BEGIN:VCALENDAR
VERSION:2.0
PRODID:-//dhtmlXScheduler//NONSGML v2.2//EN
X-WR-CALNAME:Wydarzenia
BEGIN:VEVENT
DTSTART:20220506T000000
DTEND:20220506T000000
UID:0
SUMMARY: „Pisanki wielkanocne” – nowa ekspozycja Uniwersyteckiego Centrum Przyrodniczego im. Profesora Andrzeja Myrchy
END:VEVENT
BEGIN:VEVENT
DTSTART:20220507T000000
DTEND:20220507T000000
UID:1
SUMMARY:Uniwersytet w Białymstoku na XVIII Podlaskim Festiwalu Nauki i Sztuki 
END:VEVENT
BEGIN:VEVENT
DTSTART:20220507T000000
DTEND:20220507T000000
UID:2
SUMMARY:Co łączy kosmos i mrówki? Podlaski Festiwal Nauki i Sztuki na UwB!
END:VEVENT
BEGIN:VEVENT
DTSTART:20220510T000000
DTEND:20220510T000000
UID:3
SUMMARY:Mistrzowska prelekcja prof. Marii Mozarz-Kleindienst
END:VEVENT
BEGIN:VEVENT
DTSTART:20220511T000000
DTEND:20220511T000000
UID:4
SUMMARY:Zapraszamy do udziału w Dniach NCN w Białymstoku. Ruszyła rejestracja na warsztaty  
END:VEVENT
BEGIN:VEVENT
DTSTART:20220512T000000
DTEND:20220512T000000
UID:5
SUMMARY:Wielkie święto nauki! W Białymstoku rozpoczęły się Dni Narodowego Centrum Nauki 
END:VEVENT
BEGIN:VEVENT
DTSTART:20220513T000000
DTEND:20220513T000000
UID:6
SUMMARY:Trwa Podlaski Festiwal Nauki i Sztuki. Za nami Rodzinny Piknik Naukowy. Przed nami dzień UwB!
END:VEVENT
BEGIN:VEVENT
DTSTART:20220514T000000
DTEND:20220514T000000
UID:7
SUMMARY:Czytanie performatywne dramatu "Mesjasz: Bruno Schulz" w Uniwersyteckim Centrum Kultury
END:VEVENT
BEGIN:VEVENT
DTSTART:20220514T000000
DTEND:20220514T000000
UID:8
SUMMARY:Noc Muzeów 2022 z Uniwersytetem w Białymstoku!
END:VEVENT
BEGIN:VEVENT
DTSTART:20220515T000000
DTEND:20220515T000000
UID:9
SUMMARY:Rekrutacja do programu "MOST"
END:VEVENT
BEGIN:VEVENT
DTSTART:20220521T000000
DTEND:20220521T000000
UID:10
SUMMARY:Outside the box.
TEDx Białystok - ponownie na UwB!

END:VEVENT
BEGIN:VEVENT
DTSTART:20220522T000000
DTEND:20220522T000000
UID:11
SUMMARY:Ścieżkami Puszczy Knyszyńskiej – pokaz multimedialny z muzyką na żywo
END:VEVENT
BEGIN:VEVENT
DTSTART:20220526T000000
DTEND:20220526T000000
UID:12
SUMMARY:X Ogólnopolska Studencko-Doktorancka Konferencja Historyków Nowożytników „Studia nad społeczeństwem nowożytnej Europy”
END:VEVENT
BEGIN:VEVENT
DTSTART:20220526T000000
DTEND:20220526T000000
UID:13
SUMMARY:Finał konkursu, ogólnopolska konferencja i wystawa poświęcona Annie Markowej
END:VEVENT
BEGIN:VEVENT
DTSTART:20220529T000000
DTEND:20220529T000000
UID:14
SUMMARY:Jubileusz Uniwersytetu w Białymstoku na sportowo! Zapraszamy drużyny do udziału w biegu sztafetowym
END:VEVENT
BEGIN:VEVENT
DTSTART:20220531T000000
DTEND:20220531T000000
UID:15
SUMMARY:Wydział Fizyki zaprasza na wykład: „Dyfuzja i przepływ – 100 lat po Albercie Einsteinie”.
END:VEVENT
END:VCALENDAR