BEGIN:VCALENDAR
VERSION:2.0
PRODID:-//dhtmlXScheduler//NONSGML v2.2//EN
X-WR-CALNAME:Wydarzenia
BEGIN:VEVENT
DTSTART:20220408T000000
DTEND:20220408T000000
UID:0
SUMMARY:Ludzki sposób patrzenia na emocje zwierząt. 
UwB zaprasza na kolejne Spotkanie z Filozofią i Kognitywistyką

END:VEVENT
BEGIN:VEVENT
DTSTART:20220411T000000
DTEND:20220411T000000
UID:1
SUMMARY:Uroczystość w Gabinecie Prezydenta Kaczorowskiego
END:VEVENT
BEGIN:VEVENT
DTSTART:20220423T000000
DTEND:20220423T000000
UID:2
SUMMARY:Turniej szachowy o Puchar Rektora Uniwersytetu w Białymstoku
END:VEVENT
END:VCALENDAR