BEGIN:VCALENDAR
VERSION:2.0
PRODID:-//dhtmlXScheduler//NONSGML v2.2//EN
X-WR-CALNAME:Wydarzenia
BEGIN:VEVENT
DTSTART:20220307T000000
DTEND:20220307T000000
UID:0
SUMMARY:Ogólnopolskie seminarium naukowe: Podatkowy Polski Ład - w teorii i praktyce
END:VEVENT
BEGIN:VEVENT
DTSTART:20220315T000000
DTEND:20220315T000000
UID:1
SUMMARY:Jądrowe opcje dla polskiej transformacji energetycznej.
Wydział Fizyki UwB zaprasza na ciekawe konwersatorium

END:VEVENT
BEGIN:VEVENT
DTSTART:20220316T000000
DTEND:20220316T000000
UID:2
SUMMARY:Miłość jako wartość.
Prof. Kazimierz Korus z mistrzowską prelekcją na UwB

END:VEVENT
BEGIN:VEVENT
DTSTART:20220317T000000
DTEND:20220317T000000
UID:3
SUMMARY:V Tydzień Mózgu w Białymstoku
END:VEVENT
BEGIN:VEVENT
DTSTART:20220318T000000
DTEND:20220318T000000
UID:4
SUMMARY:“Czas apokalipsy”. Nowa wystawa w Biurze Wystaw Kulturoznawczych
END:VEVENT
BEGIN:VEVENT
DTSTART:20220318T000000
DTEND:20220318T000000
UID:5
SUMMARY:Wpływ obecności przyrody na zdrowie psychiczne człowieka. Wykład na Wydziale Biologii UwB

END:VEVENT
BEGIN:VEVENT
DTSTART:20220319T000000
DTEND:20220319T000000
UID:6
SUMMARY:Uniwersyteckie Centrum Kultury zaprasza na spektakl "Ściana z widokiem"
END:VEVENT
BEGIN:VEVENT
DTSTART:20220325T000000
DTEND:20220325T000000
UID:7
SUMMARY:"Burmistrz" ponownie w Uniwersyteckim Centrum Kultury
END:VEVENT
BEGIN:VEVENT
DTSTART:20220326T000000
DTEND:20220326T000000
UID:8
SUMMARY:Wydział Fizyki UwB zaprasza na wykład: Percepcja krótkich sygnałów dźwiękowych
END:VEVENT
BEGIN:VEVENT
DTSTART:20220330T000000
DTEND:20220330T000000
UID:9
SUMMARY:Przyszłość Ukrainy, Rosji i Europy - WHiSM zaprasza na spotkanie z politolożkami ze Lwowa
END:VEVENT
END:VCALENDAR