BEGIN:VCALENDAR
VERSION:2.0
PRODID:-//dhtmlXScheduler//NONSGML v2.2//EN
X-WR-CALNAME:Wydarzenia
BEGIN:VEVENT
DTSTART:20220201T000000
DTEND:20220201T000000
UID:0
SUMMARY:Pasja czy kalkulacja? 
Debata z okazji jubileuszu 25-lecia Uniwersytetu w Białymstoku

END:VEVENT
BEGIN:VEVENT
DTSTART:20220212T000000
DTEND:20220212T000000
UID:1
SUMMARY:Wydział Fizyki UwB zaprasza na wykład: Podstawowe stałe fizyki a kształt Wszechświata
END:VEVENT
BEGIN:VEVENT
DTSTART:20220228T000000
DTEND:20220228T000000
UID:2
SUMMARY:Ofensywa romantyzmu i kobiety w ofensywie, czyli Tydzień z Filologią UwB dla uczniów i wszystkich zainteresowanych
END:VEVENT
END:VCALENDAR