BEGIN:VCALENDAR
VERSION:2.0
PRODID:-//dhtmlXScheduler//NONSGML v2.2//EN
X-WR-CALNAME:Wydarzenia
BEGIN:VEVENT
DTSTART:20220111T000000
DTEND:20220111T000000
UID:0
SUMMARY:Wydział Fizyki UwB zaprasza na wykład: Giorgio Parisi and the physics of complexity
END:VEVENT
BEGIN:VEVENT
DTSTART:20220114T000000
DTEND:20220114T000000
UID:1
SUMMARY:Różnorodność biologiczna na Nocy Biologów. Uniwersytet w Białymstoku zaprasza pasjonatów przyrody w każdym wieku
END:VEVENT
BEGIN:VEVENT
DTSTART:20220114T000000
DTEND:20220114T000000
UID:2
SUMMARY:Chimery, hybrydy i organoidy ludzkie. 
Pierwszy wykład w ramach nowego projektu na UwB 

END:VEVENT
BEGIN:VEVENT
DTSTART:20220120T000000
DTEND:20220120T000000
UID:3
SUMMARY:Jubileuszowe sympozjum z okazji 75-lecia urodzin prof. Kazimierza Trzęsickiego
END:VEVENT
BEGIN:VEVENT
DTSTART:20220128T000000
DTEND:20220128T000000
UID:4
SUMMARY:Skąd bierze się równość? 
END:VEVENT
BEGIN:VEVENT
DTSTART:20220131T000000
DTEND:20220131T000000
UID:5
SUMMARY:"Legia Akademicka" po raz piąty na UwB
END:VEVENT
END:VCALENDAR